BEGIN:VCALENDAR
VERSION:2.0
PRODID:Events Booking
BEGIN:VEVENT
UID:69e800dc6f8f4
SUMMARY:Fjälltur i Grövelsjön\, för dig och ditt barn eller barnbarn
DESCRIPTION:Det här är turen för er som har viss fjällvana och vill var
 a och vandra i fjällen tillsammans med ditt barn eller barnbarn från 7 
 år och uppåt.&nbsp\;&nbsp\;&nbsp\; &nbsp\;&nbsp\;&nbsp\;
 Vi kommer att
  göra dagsturer\, med ett mer krävande och ett lättare vandringsförsla
 g per dag. Möjlighet finns för den som vill att vandra för att övernat
 ta i tält en dagsetapp eller två från Fjällstationen. Om intresse finn
 s så kommer vi att utforska karta och kompass\, matlagning i fältkök oc
 h utrustning. &nbsp\;&nbsp\;&nbsp\;
 Du ska ha viss fjällvana av sommarf
 jället och vandring. Barnen behöver ingen fjällvana\, kanske är detta 
 första fjällsemestern.&nbsp\; Det vandrings- och fjällvana barnet komme
 r som vill ha lite utmaning kommer också få det. Vi rör oss under och 
 över trädgränsen\, längs markerade leder och eventuellt i orösad terr
 äng.&nbsp\;
DTSTART:20260805T070000Z
DTEND:20260808T140000Z
DTSTAMP:20260330T191211Z
ORGANIZER;CN=Svenska Fjällklubben:MAILTO:joomla@fjallklubben.se
END:VEVENT
END:VCALENDAR