BEGIN:VCALENDAR
VERSION:2.0
PRODID:Events Booking
BEGIN:VEVENT
UID:69e80e4db6010
SUMMARY:Fjällväderkurs
DESCRIPTION:Kursen hålls på Kullatorpet\, 247 96 Veberöd
 Kursstart 09:
 00 på lördagen. 16:30 är första dagen slut
 Kursstart 09:00 på sönd
 agen. 14:30 avslutning
 Kurspris: 250 SEK per person\, då ingår ett ex 
 av boken ”Sol eller snöstorm på fjället.
 &nbsp\;
LOCATION:247 96 Veberöd
DTSTART:20251011T070000Z
DTEND:20251012T123000Z
DTSTAMP:20250910T143741Z
ORGANIZER;CN=Svenska Fjällklubben:MAILTO:joomla@fjallklubben.se
GEO:55.603087;13.459186
X-APPLE-STRUCTURED-LOCATION;VALUE=URI;X-ADDRESS=247 96 Veberöd;X-APPLE-RAD
 IUS=72;X-TITLE=Kullatorpet:55.603087;13.459186
END:VEVENT
END:VCALENDAR