BEGIN:VCALENDAR
VERSION:2.0
PRODID:Events Booking
BEGIN:VEVENT
UID:69e80f29ba1ec
SUMMARY:FJÄLLEN FÖR ALLA 2021
DESCRIPTION:FJÄLLEN FÖR ALLA 2021
 Turen i Björkliden 2020 ställdes ty
 värr i på grund av pandemin. Nu öppnar vi anmälan för turen i juni 20
 21. Det är en tur där vi ledare kan anpassa individuellt när kropp och 
 hälsa eller ålder begränsar möjligheterna att gå långt\, bära tungt
  och tälta. Målgruppen utvidgas till er som vill komma till fjällen med
  era barn eller barnbarn. Fjällturen arrangeras av Sektion Syd och leds a
 v Jenny Lindström och Mikael Faber som går Svenska Fjällklubbenms fjäl
 ledarutbildning för helårsexamen.
 Vi bor i två par stugor i vackra Bj
 örkliden nära den norska gränsen mellan Kiruna och Narvik. Det går lä
 tt att komma ut på fjället och det finns flera vackra turer att välja m
 ellan. Vi kommer att gå dagsturer på några kilometer i lätt terräng. 
 Turerna utformas efter individuella behov och önskemål och kan göras b
 åde lättare och svårare. Målet är att alla får uppleva fjällen\, se
  midnattssolen lysa över det mäktiga och vidsträckta fjällandskapet\, 
 höra suset i vinden över vidderna och pipande fjällfåglar\, känna dof
 ten av fjällblomster och smaken av friskt och kallt vatten från en porla
 nde fjällbäck. Alla kann uppleva friheten\, stillheten och lekfullheten 
 på fjället.
 Var: Björkliden\, Kiruna kommun
 När: Tisdag 15 till l
 ördag 19 juni 2021.
 Sista anmälningsdag: 2021-02-28.
 Frågor och anm
 älan: Jenny Lindström på levalivet@bahnhof.se&nbsp\;eller&nbsp\; 070 24
 5 81 52&nbsp\; &nbsp\; &nbsp\; &nbsp\; &nbsp\; &nbsp\; &nbsp\;
 Obs! Alla
  sex platserna är bokade.
 &nbsp\;
 &nbsp\;
 &nbsp\;
DTSTART:20210614T220000Z
DTEND:20210618T220000Z
DTSTAMP:20260422T015833Z
ORGANIZER;CN=Svenska Fjällklubben:MAILTO:joomla@fjallklubben.se
END:VEVENT
END:VCALENDAR