BEGIN:VCALENDAR
VERSION:2.0
PRODID:Events Booking
BEGIN:VEVENT
UID:69e80f931ea3f
SUMMARY:FJÄLLVECKA I GRÖVELSJÖN INSTÄLLD
DESCRIPTION:FJÄLLVECKA I GRÖVELSJÖN INSTÄLLD
 &nbsp\;
 &nbsp\;
 &nbs
 p\;
 &nbsp\;
 &nbsp\;
 &nbsp\;
DTSTART:20220330T220000Z
DTSTAMP:20260422T020019Z
ORGANIZER;CN=Svenska Fjällklubben:MAILTO:joomla@fjallklubben.se
END:VEVENT
END:VCALENDAR