BEGIN:VCALENDAR
VERSION:2.0
PRODID:Events Booking
BEGIN:VEVENT
UID:69e80fd5d9b74
SUMMARY:Fjällvecka i Katterjaurestugan
DESCRIPTION:
DTSTART:20230903T220000Z
DTEND:20230909T220000Z
DTSTAMP:20221127T124138Z
ORGANIZER;CN=Svenska Fjällklubben:MAILTO:joomla@fjallklubben.se
END:VEVENT
END:VCALENDAR