BEGIN:VCALENDAR
VERSION:2.0
PRODID:Events Booking
BEGIN:VEVENT
UID:69e80fa7d8c0a
SUMMARY:FÖREDRAG OM GRÖNA BANDET OCH PACIFIC CREST TRAIL
DESCRIPTION:FÖREDRAG OM GRÖNA BANDET OCH PACIFIC CREST TRAIL
 INSTÄLLT 
 PÅ GRUND AV CORONA
 Välkommen på ett föredrag om långvandring i USA 
 och Svenska fjällen av fjällklubbaren Peter Bergström!
 Hur är det at
 t vandra 425 mil från Mexiko till Kanada\, genom öken\, höga snöfyllda
  berg och ändlösa skogar?
 Hur är det att vandra 130 mil genom Svenska
  och Norska fjällkedjan\, från Grövelsjön till Treriksröset? Och inte
  bara en gång\, utan tre.
 Hur förbereder man sig för en långvandring
 ? Vad upplever man? Vad driver en?
 Ett föredrag för dig som är nyfike
 n på att göra en långvandring. Eller som bara vill höra hur det är el
 ler kanske mest av allt vill veta vilken utrustning som blir \"kvar\" efte
 r att man vandrat och utvärderat vad som verkligen behövs med mer än 60
 0 mil under fötterna.
 När: 14 november klockan 13.00-16.00
 Var: Glum
 slövs Folkets hus\, Nybovägen 16.
 Oblatorisk föranmälan via mail ell
 er telefon leo.stromberg@gmail.com\,&nbsp\; &nbsp\; &nbsp\; &nbsp\; &nbsp\
 ; &nbsp\; &nbsp\; &nbsp\;073 334 22 60. gärna ett par dagar före.
 Anle
 dning till föranmälan är förstås restriktioner med anledning av Covid
 -19.
 &nbsp\;
DTSTART:20201114T120000Z
DTEND:20201114T150000Z
DTSTAMP:20260422T020039Z
ORGANIZER;CN=Svenska Fjällklubben:MAILTO:joomla@fjallklubben.se
END:VEVENT
END:VCALENDAR