BEGIN:VCALENDAR
VERSION:2.0
PRODID:Events Booking
BEGIN:VEVENT
UID:69e80ff69deac
SUMMARY:En försommartur med övernattning i tält på Store Mosse
DESCRIPTION:
DTSTART:20240503T220000Z
DTEND:20240504T220000Z
DTSTAMP:20231220T204538Z
ORGANIZER;CN=Svenska Fjällklubben:MAILTO:joomla@fjallklubben.se
END:VEVENT
END:VCALENDAR