BEGIN:VCALENDAR
VERSION:2.0
PRODID:Events Booking
BEGIN:VEVENT
UID:69e80e6cb4b34
SUMMARY:Hur blir man stugvärd för Svenska Turistföreningen
DESCRIPTION:Olle Kjellström presenterar tillvägagångssättet för att ku
 nna bli stugvärd inom STF
DTSTART:20250522T160000Z
DTEND:20250522T180000Z
DTSTAMP:20250524T124204Z
ORGANIZER;CN=Svenska Fjällklubben:MAILTO:joomla@fjallklubben.se
END:VEVENT
END:VCALENDAR