BEGIN:VCALENDAR
VERSION:2.0
PRODID:Events Booking
BEGIN:VEVENT
UID:69e810344f104
SUMMARY:Navigation i fjäll\, karta\, kompass och GPS Fulltecknad
DESCRIPTION:Vi börjar inomhus för att gå igenom handhavandet av fjällka
 rta\, kompass\, krysspejling och GPS. Därefter går vi ut och du får öv
 a färdigheterna att navigera utanför led.&nbsp\; Passar bra som förbere
 delse inför fjälledarutbildningens navigationsmoment. Anmälan senast 15
  januari.&nbsp\;&nbsp\;
 &nbsp\;
DTSTART:20230121T090000Z
DTEND:20230121T150000Z
DTSTAMP:20221127T121602Z
ORGANIZER;CN=Svenska Fjällklubben:MAILTO:joomla@fjallklubben.se
END:VEVENT
END:VCALENDAR