BEGIN:VCALENDAR
VERSION:2.0
PRODID:Events Booking
BEGIN:VEVENT
UID:69e81614ae071
SUMMARY:Praktisk sommarfjällskurs - bortom stugor och ledkryss
DESCRIPTION:Svenska Fjällklubben erbjuder en praktisk sommarfjällkurs fö
 r dig som medlem som kanske ännu inte provat på att göra en längre tur
  på fjället. Du tycker om att vistas i naturen och har kanske gjort en o
 ch annan tur vid olika tillfällen men känner att du vill utvecklas och g
 å vidare. Mottot för vår kurs är ”Bortom stugor och ledkryss\"
DTSTART:20190824T073000Z
DTEND:20190831T140000Z
DTSTAMP:20260422T022804Z
ORGANIZER;CN=Svenska Fjällklubben:MAILTO:joomla@fjallklubben.se
END:VEVENT
END:VCALENDAR