BEGIN:VCALENDAR
VERSION:2.0
PRODID:Events Booking
BEGIN:VEVENT
UID:69e8104ddcd5b
SUMMARY:Torka mat till fjällturen
DESCRIPTION:Välkommen till att berika dina kulinariska referenser med nytt
 iga fjällrätter som du själv lära dig att torka.&nbsp\; Denna dag är 
 en bra förberedelse till nästa fjälltur.
DTSTART:20230401T120000Z
DTEND:20230401T150000Z
DTSTAMP:20230212T205739Z
ORGANIZER;CN=Svenska Fjällklubben:MAILTO:joomla@fjallklubben.se
END:VEVENT
END:VCALENDAR