BEGIN:VCALENDAR
VERSION:2.0
PRODID:Events Booking
BEGIN:VEVENT
UID:69e802931ad9f
SUMMARY:Väderkurs
DESCRIPTION:
DTSTART:20230513T080000Z
DTEND:20230514T120000Z
DTSTAMP:20230212T215050Z
ORGANIZER;CN=Svenska Fjällklubben:MAILTO:joomla@fjallklubben.se
END:VEVENT
END:VCALENDAR