BEGIN:VCALENDAR
VERSION:2.0
PRODID:Events Booking
BEGIN:VEVENT
UID:69e80ec0467fc
SUMMARY:VANDRING VID HOVDALA         OBS! Inställt p g a Coronavirus
DESCRIPTION:Förstamajhelgen utnyttjar vi på bästa sätt. När våren har
  spruckit ut\, fåglarna sjunger och växtligheten prunkar\, gör vi en tv
 ådagars vandring vid Hovdala. Vi kommer att gå i två separata slingor\,
  så vill du bara delta en av dagarna går det lika bra\, eftersom vi åte
 rkommer till startplatsen redan första dagen.
 Boka helgen! Utförlig in
 formation kommer senare.
DTSTART:20200501T080000Z
DTEND:20200502T150000Z
DTSTAMP:20260422T015648Z
ORGANIZER;CN=Svenska Fjällklubben:MAILTO:joomla@fjallklubben.se
END:VEVENT
END:VCALENDAR