BEGIN:VCALENDAR
VERSION:2.0
PRODID:Events Booking
BEGIN:VEVENT
UID:69e82bb728561
SUMMARY:Anmälan till Skärgårdsturen öppnar!
DESCRIPTION:Anmälan till Skärgårdsturen 1/6 – 3/6&nbsp\; öppnas! Kenn
 eth Jacobsson\, 070-317 71 05&nbsp\; Turen fulltecknad - väntelista finns
 .
DTSTART:20180317T090000Z
DTSTAMP:20260422T040023Z
ORGANIZER;CN=Svenska Fjällklubben:MAILTO:joomla@fjallklubben.se
END:VEVENT
END:VCALENDAR