BEGIN:VCALENDAR
VERSION:2.0
PRODID:Events Booking
BEGIN:VEVENT
UID:69e82a9c3c9ce
SUMMARY:Årsmöte sektionen
DESCRIPTION:Klubblokalen kl 1800. Efter mötet visar&nbsp\;Claes Ljungquist
 \, Ellert Carlsson och Björn Setterberg&nbsp\;bilder från och berättar 
 om dagsturer på Teneriffa.
DTSTART:20180220T170000Z
DTSTAMP:20260422T035540Z
ORGANIZER;CN=Svenska Fjällklubben:MAILTO:joomla@fjallklubben.se
END:VEVENT
END:VCALENDAR