BEGIN:VCALENDAR
VERSION:2.0
PRODID:Events Booking
BEGIN:VEVENT
UID:69e815710597d
SUMMARY:Extra möte -Val av valberedning
DESCRIPTION:Vid årsmötet i Stockholmssektionen den 16/2 i år blev inte v
 alberedningen fullständig. Därför kallar vi till extra möte för val a
 v valberedning i samband med mötet den 14/3 2023\, 19.00 - Grottor i sven
 ska fjällområden. Vill du gå med i valberedningen eller har förslag p
 å ledamöter sänd dem till valberedningens sammankallande Sven-Erik Wahl
  sven-erik@wahl.as. telefon 0708 93 22 12
DTSTART:20230314T190000Z
DTEND:20230314T193000Z
DTSTAMP:20230303T191859Z
ORGANIZER;CN=Svenska Fjällklubben:MAILTO:joomla@fjallklubben.se
END:VEVENT
END:VCALENDAR