BEGIN:VCALENDAR
VERSION:2.0
PRODID:Events Booking
BEGIN:VEVENT
UID:69e811d98a6d4
SUMMARY:GPS och säkerhet\, Webbinarium
DESCRIPTION:Satellitkommunikation och GPS&nbsp\;
 Välkommen till ett webb
 inarium som ger dig en grundläggande presentation av användning av tjän
 sten Inreach (Garmins system för satellitkommunikation). Lär dig om hur 
 det funkar att skicka SOS-alarm\, meddelanden till sms- och epost-mottagar
 e\, dela dina GPS-spår och inhämta väderprognoser i fjällmiljö utanf
 ör mobiltäckning. Vi ger dig också en bild av olika typer av Inreach-en
 heter\, abonnemangsformer och styrkor och svagheter med systemet.
 Anmäl
 an sker via e-post till&nbsp\;christian@fjallklubben.se.&nbsp\;
 Detta ä
 r ett online-event/webbinarium i samarbete mellan Fjällets redaktion och 
 Stockholmssektionen. Länk till eventet mailas ut till anmälda några dag
 ar innan själva sändningen. Sändningen kan även ses i efterhand via Fj
 ällklubbens You tube-kanal.&nbsp\;
 Medverkande: Páll Ágúst Þórarin
 sson och Joel Olsson (fjälledare)\, Ulf Andersson-Greek (moderator). v
 
 &nbsp\;
 
LOCATION:Online
DTSTART:20251110T180000Z
DTEND:20251110T190000Z
DTSTAMP:20250929T072824Z
ORGANIZER;CN=Svenska Fjällklubben:MAILTO:joomla@fjallklubben.se
END:VEVENT
END:VCALENDAR