BEGIN:VCALENDAR
VERSION:2.0
PRODID:Events Booking
BEGIN:VEVENT
UID:69e893d4e9f77
SUMMARY:Gröna bandets alternativa vägar
DESCRIPTION:Vill du vandra hela Gröna Bandet i sommar\, eller beta av en d
 el i form av &nbsp\;Gröna Bandet Etapp? Eller få en överblick över hel
 a fjällkedjan\, så att du kan planera en vandring på allt från några 
 dagar till några veckor?
 Jörgen Johansson ger tips utifrån den nya\, 
 utökade upplagan av sin guidebok Gröna Bandet – färdvägar i fjällen
 . Nu också med åtskilliga mil ruttbeskrivningar i Norge.
 Anmälan via 
 länk:&nbsp\;https://forms.gle/JhY9cCRBJTY1dAnt8
DTSTART:20260422T163000Z
DTSTAMP:20260323T104900Z
ORGANIZER;CN=Svenska Fjällklubben:MAILTO:joomla@fjallklubben.se
END:VEVENT
END:VCALENDAR