BEGIN:VCALENDAR
VERSION:2.0
PRODID:Events Booking
BEGIN:VEVENT
UID:69e8022fb8a1e
SUMMARY:International Mountain Leader och Svenska Fjälledarorganisationen 
 med Ulf Bergman
DESCRIPTION:Torsdag 20e november kl 18.30 kommer Ulf Bergman och berättar 
 för oss om International Mountain Leader (IML) examinationen. Ulf sitter 
 i Svenska Fjälledarorganisationens (SFLO) styrelse och är en av instrukt
 örerna och examinatorna på IML utbildningen. SFLO är en medlemsorganisa
 tion för godkända fjälledare och utbildare som jobbar med fortbildninga
 r för fjälledare\, utbildning av IML och synliggörande av godkända fj
 älledare och utbildare bla. En IML kvalifikation gör det möjligt för i
 nnehavaren att leda grupper i fjällterräng över hela världen där komp
 etens och utrustning för alpinism inte är nödvändigt.
 Anmälan:&nbsp
 \;https://forms.gle/Y4QjyKHdRXrBmqbv8
DTSTART:20251120T173000Z
DTSTAMP:20251001T063820Z
ORGANIZER;CN=Svenska Fjällklubben:MAILTO:joomla@fjallklubben.se
END:VEVENT
END:VCALENDAR