BEGIN:VCALENDAR
VERSION:2.0
PRODID:Events Booking
BEGIN:VEVENT
UID:69e893d4e8781
SUMMARY:Klubbkväll på Lundhags brand store
DESCRIPTION:Välkommen på klubbkväll på Lundhags brand store på Kungsga
 tan i Stockholm!
 Tillsammans med vår klubbsponsor\, Lundhags\, bjuder F
 jällklubbens Stockholmssektion in alla medlemmar till en kväll med före
 drag av två av deras produktutvecklare som kommer att berätta för oss o
 m tekniska och nördiga detaljer om Lundhags skor och kläder.
DTSTART:20260504T170000Z
DTSTAMP:20260320T153047Z
ORGANIZER;CN=Svenska Fjällklubben:MAILTO:joomla@fjallklubben.se
END:VEVENT
END:VCALENDAR