BEGIN:VCALENDAR
VERSION:2.0
PRODID:Events Booking
BEGIN:VEVENT
UID:69e813108e15b
SUMMARY:Meteorologikurs: väder och vandring i Riksgränsfjällen
DESCRIPTION:Svenska Fjällklubben bjuder in till en kursvandring i Riksgrä
 nsfjällen 5-10 augusti 2025!
 Huvudfokus under turen blir väder\, meteo
 rologi och sommarfjället med utgångspunkt från klubbstugan i Katterjaur
 e. Följ med en meteorolog och en erfaren fjälledare på en aktivitet dä
 r du får lära dig mer om väder och prognoser samt som hur du på ett br
 a sätt tolkar förhållanden på&nbsp\;fjället. Vi passerar vackra och k
 ända fjällplatser i Riksgränsfjällen emellan stugan\, Trollsjön och L
 åktatjåkka! Kursen täcker grundläggande saker inom meteorologin samt s
 om du får lära dig att göra dina egna observationer. Vi kommer även at
 t diskutera hur fjällen påverkar vädret lokalt och de lokala förhålla
 nde som kan skapas i denna miljö. Parallellt med detta erbjuds du möjlig
 heten att träna din personliga fjällsäkerhet och andra praktiska moment
  under sommarturer.
 &nbsp\;
DTSTART:20250805T100000Z
DTEND:20250810T120000Z
DTSTAMP:20241222T135115Z
ORGANIZER;CN=Svenska Fjällklubben:MAILTO:joomla@fjallklubben.se
END:VEVENT
END:VCALENDAR