BEGIN:VCALENDAR
VERSION:2.0
PRODID:Events Booking
BEGIN:VEVENT
UID:69e82ba16fcc5
SUMMARY:Niklas Nilsson\, Fjällfararnas Gröna band 2017 berättar 
DESCRIPTION:Kenth Westlund 0761444720. Klubblokalen\, fika kl 1800 och för
 edrag kl 1900.
DTSTART:20180206T170000Z
DTSTAMP:20260422T040001Z
ORGANIZER;CN=Svenska Fjällklubben:MAILTO:joomla@fjallklubben.se
END:VEVENT
END:VCALENDAR