BEGIN:VCALENDAR
VERSION:2.0
PRODID:Events Booking
BEGIN:VEVENT
UID:69e8130059b50
SUMMARY:Samisk textilkonst på Moderna Museet
DESCRIPTION:Samisk textilkonst i världsklass på Moderna Museet\, Stockhol
 m.
 Kom med SFK–Stockholm på en guidad tur till utställningen: ”DÄ
 R VARJE STYGN ANDAS”&nbsp\;
 Britta&nbsp\;Marakatt-Labbas kritikerrosad
 e broderikonst som speglar det samiska folket och deras kamp. Utöver brod
 erier visas även grafik\, installationer och skulpturer.
 Anmälning kr
 ävs! 20 deltagare får plats.
 Kostnad: 120 kr entré per person\, sekti
 onen bjuder på den guidade turen!
 FULLBOKAD!
DTSTART:20251014T163000Z
DTEND:20251014T173000Z
DTSTAMP:20250818T105216Z
ORGANIZER;CN=Svenska Fjällklubben:MAILTO:joomla@fjallklubben.se
END:VEVENT
END:VCALENDAR