BEGIN:VCALENDAR
VERSION:2.0
PRODID:Events Booking
BEGIN:VEVENT
UID:69e8149d518f8
SUMMARY:Styrelsemöte Stockholm
DESCRIPTION:Du som är medlem\, kontakta gärna oss i Stockholmssektionens 
 styrelse på:stockholmssektionen@fjallklubben.seom du har någon fråga so
 m du vill att vi tar upp.
DTSTART:20251125T173000Z
DTEND:20251125T193000Z
DTSTAMP:20250610T180637Z
ORGANIZER;CN=Svenska Fjällklubben:MAILTO:joomla@fjallklubben.se
END:VEVENT
END:VCALENDAR