BEGIN:VCALENDAR
VERSION:2.0
PRODID:Events Booking
BEGIN:VEVENT
UID:69e8c278adec1
SUMMARY:Utskärgårdsturen – 40 år!
DESCRIPTION:Reservera redan nu 2-4 juni 2026 för Utskärgårdsturens 40-å
 rs jubileum!
 Anmälan påbörjas lördagen 18/4 kl.10.00\, till Kenneth 
 Jakobsson 070-317 71 05endast på telefon (ej SMS).
DTSTART:20260602T080000Z
DTEND:20260604T150000Z
DTSTAMP:20251025T090954Z
ORGANIZER;CN=Svenska Fjällklubben:MAILTO:joomla@fjallklubben.se
END:VEVENT
END:VCALENDAR