BEGIN:VCALENDAR
VERSION:2.0
PRODID:Events Booking
BEGIN:VEVENT
UID:69e81542a9648
SUMMARY:Utskärgårdsturen 2021
DESCRIPTION:Följ med på vår traditionella tälttur ut till de yttersta s
 kären i vårens härligaste tid ! Väder och vind är helt avgörande fö
 r vilket resmål vi kan besöka\, och därför vet vi ofta först 1-2 daga
 r innan vart det bär. Oavsett vad vi hamnar utlovas en unik resa i en fan
 tastisk miljö! Turen går fre-sön 28-30/5\, börjar och slutar i Stavsn
 äs. Anmälan påbörjas LÖRDAGEN 27/3 kl. 10.00&nbsp\; Endast 12 platser
 . För info och anmälan\, Kenneth Jakobsson\, 070-317 71 05.UPPDATERING d
 en 9 mars 2021.&nbsp\;&nbsp\;Det är vår förhoppning att vi kan genomfö
 ra turen på ett säkert sätt&nbsp\;trots den pågående pandemin\, och a
 tt de flesta av deltagarna fått möjlighet att bli vaccinerade innan avre
 san. Vi måste dock lägga in en reservation för att ändringar kan ske m
 ed turen om myndigheterna&nbsp\;inför nya eller strängare restriktioner.
 
  Angivet max deltagarantal kan ses som preliminärt. Lördagens middag 
 29/5 - med gemensam matlagning utgår i år\, och alla tar i stället med 
 mat för alla måltider och tillagar dem själv. Anmälan påbörjas som p
 lanerat lördagen 27/3 10.00 ( se ovan ) . Turen är för närvarande full
 tecknad.
DTSTART:20210527T220000Z
DTEND:20210529T220000Z
DTSTAMP:20260422T022434Z
ORGANIZER;CN=Svenska Fjällklubben:MAILTO:joomla@fjallklubben.se
END:VEVENT
END:VCALENDAR