BEGIN:VCALENDAR
VERSION:2.0
PRODID:Events Booking
BEGIN:VEVENT
UID:69e895f058e05
SUMMARY:Vandring från Frösviks Brygga
DESCRIPTION:Välkommen på vandring från Frösviks Brygga\, Bogesundslande
 tLördag den 9 maj 2026Samling: Avgångsplats SL Båt från Ropsten\, linj
 e 80Tid: Samling kl. 10.00 (senast). OBS! Båt avgår kl. 10.10
 Vi komme
 r att gå Frösviksrundan som är en 7\,1 km lång vandringsled i varieran
 de terräng. Längs med leden passerar man bland annat Kvarnberget och Lin
 dskogen men även Tegelbrukshagen där man fram till början på 1800-tale
 t hämtat lera för tegeltillverkning.
DTSTART:20260509T080000Z
DTSTAMP:20260331T130318Z
ORGANIZER;CN=Svenska Fjällklubben:MAILTO:joomla@fjallklubben.se
END:VEVENT
END:VCALENDAR