BEGIN:VCALENDAR
VERSION:2.0
PRODID:Events Booking
BEGIN:VEVENT
UID:69e4cca05922e
SUMMARY:Lavinkurs Prolav 1 på Turskidor
DESCRIPTION:Övergripande utbildningsmål 
 Efter avslutad Pro 1 ska delta
 garna vara förberedda för yrkesmässigt arbete i lavinterräng\, under l
 edning eller med stöd av arbetsrutiner. De ska ha kunskap och förmåga a
 tt ta ansvar för sin egen säkerhet och kunna identifiera lavinrisker i s
 in arbetsmiljö. Detta utan att nödvändigtvis kunna kvantifiera lavinfar
 an. De ska kunna använda riskreducerande åtgärder. De ska självständi
 gt kunna genomföra en kamraträddning\, kunna överlämna ansvaret till o
 rganiserad räddning och kunna delta i en organiserad räddning under ledn
 ing
 Kursplats: Rödkullen. 12- 14 januari 2024
 Kurslokal: dörren till
  höger om sportshopen
 Tider.
 Dag 1: 9-17.30
 Dag 2: 8-17.30
 Dag 3:
  8-16\,30&nbsp\;
DTSTART:20240112T080000Z
DTEND:20240113T230000Z
DTSTAMP:20231027T041446Z
ORGANIZER;CN=Svenska Fjällklubben:MAILTO:joomla@fjallklubben.se
END:VEVENT
END:VCALENDAR